BEGIN:VCALENDAR
PRODID:-//MIADI//DE
BEGIN:VEVENT
UID:Über den Dächern Lübecks.-1329164
SUMMARY:Über den Dächern Lübecks.
DESCRIPTION:
LOCATION:St. Petri (Kultur- und Hochschulkirche), Petrikirchhof 4, 23552 Lübeck, Deutschland
DTSTART:20260510T100000
DTEND:20260510T160000
END:VEVENT
END:VCALENDAR