BEGIN:VCALENDAR
PRODID:-//MIADI//DE
BEGIN:VEVENT
UID:Puppentheater Simsalabim-1350168
SUMMARY:Puppentheater Simsalabim - Die Biene Maja
DESCRIPTION:
LOCATION:Erlebniswelt Hülshorst (Rittersaal), an der Hülshorst 11, 23568 Lübeck, Deutschland
DTSTART:20261007T160000
DTEND:20261007T165000
END:VEVENT
END:VCALENDAR