BEGIN:VCALENDAR
PRODID:-//MIADI//DE
BEGIN:VEVENT
UID:Wochenmarkt Travemünde-1321905
SUMMARY:Wochenmarkt Travemünde
DESCRIPTION:Ihr Einkaufserlebnis unter freiem Himmel. \n\nÖffnungszeiten Wochenmarkt Travemünde: montags 07.30-13.00 Uhr und donnerstags 07.30-13.00 Uhr\n\nMehr Infos unter: https://www.luebeck.de/de/stadtleben/freizeit/wochenmaerkte/index.html\n
LOCATION:Wochenmarkt Travemünde, Am Fährplatz / Vorderreihe, 23570 Travemünde, Deutschland
DTSTART:20260420T073000
DTEND:20260420T130000
END:VEVENT
END:VCALENDAR