BEGIN:VCALENDAR
PRODID:-//MIADI//DE
BEGIN:VEVENT
UID:Wochenmarkt Schlutup-1321841
SUMMARY:Wochenmarkt Schlutup
DESCRIPTION:Ihr Einkaufserlebnis unter freiem Himmel. \nÖffnungszeiten Wochenmarkt Schlutup: mittwochs 07.30-13.00 Uhr\nMehr Infos unter: https://www.luebeck.de/de/stadtleben/freizeit/wochenmaerkte/index.html\n
LOCATION:Wochenmarkt Schlutup, Am Schlutuper Markt 8, 23568 Lübeck, Deutschland
DTSTART:20261230T073000
DTEND:20261230T130000
END:VEVENT
END:VCALENDAR