BEGIN:VCALENDAR
PRODID:-//MIADI//DE
BEGIN:VEVENT
UID:Wochenmarkt Rathausmarkt-1321607
SUMMARY:Wochenmarkt Rathausmarkt
DESCRIPTION:Ihr Einkaufserlebnis unter freiem Himmel.\n \nÖffnungszeiten Wochenmarkt Rathausmarkt: montags 10.00-19.00 Uhr und donnerstags 10.00-19.00 Uhr\n\nMehr Infos unter: https://www.luebeck.de/de/stadtleben/freizeit/wochenmaerkte/index.html\n
LOCATION:Wochenmarkt Markt am Rathaus, Markt, 23552 Lübeck, Deutschland
DTSTART:20260518T100000
DTEND:20260518T190000
END:VEVENT
END:VCALENDAR