BEGIN:VCALENDAR
PRODID:-//MIADI//DE
BEGIN:VEVENT
UID:Wochenmarkt Kücknitz-1321236
SUMMARY:Wochenmarkt Kücknitz
DESCRIPTION:Ihr Einkaufserlebnis unter freiem Himmel. \n\nÖffnungszeiten Wochenmarkt Kücknitz: freitags 07.30-13.00 Uhr\n\nMehr Infos unter: https://www.luebeck.de/de/stadtleben/freizeit/wochenmaerkte/index.html\n
LOCATION:Wochenmarkt Kücknitz, Kirchplatz, 23569 Lübeck, Deutschland
DTSTART:20261211T073000
DTEND:20261211T130000
END:VEVENT
END:VCALENDAR