BEGIN:VCALENDAR
PRODID:-//MIADI//DE
BEGIN:VEVENT
UID:Wochenmarkt Hasenweg-1321129
SUMMARY:Wochenmarkt Hasenweg
DESCRIPTION:Ihr Einkaufserlebnis unter freiem Himmel. \nÖffnungszeiten Wochenmarkt Hasenweg: mittwochs 07.00-12.30 Uhr\nMehr Infos unter: https://www.luebeck.de/de/stadtleben/freizeit/wochenmaerkte/index.html 
LOCATION:Wochenmarkt Hasenweg, Hasenweg 1, 23568 Lübeck, Deutschland
DTSTART:20261028T070000
DTEND:20261028T123000
END:VEVENT
END:VCALENDAR