BEGIN:VCALENDAR
PRODID:-//MIADI//DE
BEGIN:VEVENT
UID:Wochenmarkt Hanseplatz-1321035
SUMMARY:Wochenmarkt Hanseplatz
DESCRIPTION:Ihr Einkaufserlebnis unter freiem Himmel. \n\nÖffnungszeiten Wochenmarkt Hanseplatz: freitags 07.30-13.00 Uhr\n\nMehr Infos unter: https://www.luebeck.de/de/stadtleben/freizeit/wochenmaerkte/index.html\n
LOCATION:Wochenmarkt Hanseplatz, Hanseplatz 1, 23558 Lübeck, Deutschland
DTSTART:20261211T073000
DTEND:20261211T130000
END:VEVENT
END:VCALENDAR