BEGIN:VCALENDAR
PRODID:-//MIADI//DE
BEGIN:VEVENT
UID:Gottesdienst zur Christnacht-1132369
SUMMARY:Gottesdienst zur Christnacht
DESCRIPTION:Gottesdienst zur Heiligen Nacht mit Pastorin Inga Meißner
LOCATION:St. Marien, Marienkirchhof 1, 23552 Lübeck, Deutschland
DTSTART:20261224T230000
DTEND:20261225T000000
END:VEVENT
END:VCALENDAR