BEGIN:VCALENDAR
PRODID:-//MIADI//DE
BEGIN:VEVENT
UID:Gottesdienst zum Heiligen Abend mit Propst Oliver Erckens-1132368
SUMMARY:Gottesdienst zum Heiligen Abend mit Propst Oliver Erckens
DESCRIPTION:Gottesdienst zum Heiligen Abend in St. Marien
LOCATION:St. Marien, Marienkirchhof 1, 23552 Lübeck, Deutschland
DTSTART:20261224T170000
DTEND:20261224T180000
END:VEVENT
END:VCALENDAR