BEGIN:VCALENDAR
PRODID:-//MIADI//DE
BEGIN:VEVENT
UID:Gottesdienst am Heiligen Abend mit Krippenspiel-1132367
SUMMARY:Gottesdienst am Heiligen Abend mit Krippenspiel
DESCRIPTION:Gottesdienst am Heiligen Abend mit Krippenspiel für die ganze Familie
LOCATION:St. Marien, Marienkirchhof 1, 23552 Lübeck, Deutschland
DTSTART:20261224T150000
DTEND:20261224T160000
END:VEVENT
END:VCALENDAR