BEGIN:VCALENDAR
PRODID:-//MIADI//DE
BEGIN:VEVENT
UID:Turm- und Gewölbeführung-1359818
SUMMARY:Turm- und Gewölbeführung - 360° Lübeck - Turm- und Gewölbeführung in St. Marien
DESCRIPTION:
LOCATION:St. Marien, Marienkirchhof 1, 23552 Lübeck, Deutschland
DTSTART:20260715T150000
DTEND:20260715T173000
END:VEVENT
END:VCALENDAR