BEGIN:VCALENDAR
PRODID:-//MIADI//DE
BEGIN:VEVENT
UID:Turm- und Gewölbeführung-1359816
SUMMARY:Turm- und Gewölbeführung - 360° Lübeck - Turm- und Gewölbeführung in St. Marien
DESCRIPTION:
LOCATION:St. Marien, Marienkirchhof 1, 23552 Lübeck, Deutschland
DTSTART:20260701T150000
DTEND:20260701T173000
END:VEVENT
END:VCALENDAR