BEGIN:VCALENDAR
PRODID:-//MIADI//DE
BEGIN:VEVENT
UID:Turm- und Gewölbeführung-1359159
SUMMARY:Turm- und Gewölbeführung - Turm- und Gewölbeführung zum Tag des offenen Denkmals
DESCRIPTION:
LOCATION:St. Marien, Marienkirchhof 1, 23552 Lübeck, Deutschland
DTSTART:20260913T150000
DTEND:20260913T173000
END:VEVENT
END:VCALENDAR