BEGIN:VCALENDAR
PRODID:-//MIADI//DE
BEGIN:VEVENT
UID:Turm- und Gewölbeführung-1348459
SUMMARY:Turm- und Gewölbeführung - 360° Lübeck - Turm- und Gewölbeführung in Marien
DESCRIPTION:
LOCATION:St. Marien, Marienkirchhof 1, 23552 Lübeck, Deutschland
DTSTART:20260711T150000
DTEND:20260711T173000
END:VEVENT
END:VCALENDAR