BEGIN:VCALENDAR
PRODID:-//MIADI//DE
BEGIN:VEVENT
UID:Turm- und Gewölbeführung-1342316
SUMMARY:Turm- und Gewölbeführung - 360° Lübeck - Turm- und Gewölbeführung in Marien
DESCRIPTION:
LOCATION:St. Marien, Marienkirchhof 1, 23552 Lübeck, Deutschland
DTSTART:20261226T203000
DTEND:20261226T230000
END:VEVENT
END:VCALENDAR