BEGIN:VCALENDAR
PRODID:-//MIADI//DE
BEGIN:VEVENT
UID:Turm- und Gewölbeführung-1342312
SUMMARY:Turm- und Gewölbeführung - 360° Lübeck - Turm- und Gewölbeführung in Marien
DESCRIPTION:
LOCATION:St. Marien, Marienkirchhof 1, 23552 Lübeck, Deutschland
DTSTART:20260829T203000
DTEND:20260829T230000
END:VEVENT
END:VCALENDAR