BEGIN:VCALENDAR
PRODID:-//MIADI//DE
BEGIN:VEVENT
UID:Mit der Wacht durch die Nacht - Nachtwächterführung-1342499
SUMMARY:Mit der Wacht durch die Nacht - Nachtwächterführung
DESCRIPTION:Lauschen Sie den Geschichten über listige Diebe\, unlautere Kaufleute und andere Verbrecher im alten Lübeck!
LOCATION:Burgtor - bei der Vitrine, , 23552 Lübeck, Deutschland
DTSTART:20261114T203000
DTEND:20261114T220000
END:VEVENT
END:VCALENDAR