BEGIN:VCALENDAR
PRODID:-//MIADI//DE
BEGIN:VEVENT
UID:Lubeca Mystica - Düstere Themenführung-1342552
SUMMARY:Lubeca Mystica - Düstere Themenführung
DESCRIPTION:Entdecken Sie Lübeck bei Nacht und lernen Sie unheimliche Geschichten jenseits von Hanse\, Buddenbrooks und den 7 Türmen kennen.
LOCATION:Domkirchhof, Domkirchhof, 23552 Lübeck, Deutschland
DTSTART:20261205T203000
DTEND:20261205T220000
END:VEVENT
END:VCALENDAR