BEGIN:VCALENDAR
PRODID:-//MIADI//DE
BEGIN:VEVENT
UID:Stadtführung: Gänge und Höfe im Domviertel-1347786
SUMMARY:Stadtführung: Gänge und Höfe im Domviertel
DESCRIPTION:In den zahlreichen liebevoll restaurierten Gängen können wir das Leben der vergangenen Jahrhunderte wieder erleben.
LOCATION:Buddenbrooks am Markt, Markt 15, 23552 Lübeck, Deutschland
DTSTART:20260803T133000
DTEND:20260803T150000
END:VEVENT
END:VCALENDAR