BEGIN:VCALENDAR
PRODID:-//MIADI//DE
BEGIN:VEVENT
UID:Stadtführung: Gänge und Höfe im Handwerkerviertel-1347950
SUMMARY:Stadtführung: Gänge und Höfe im Handwerkerviertel
DESCRIPTION:Bummeln Sie mit uns durch die lieblichen Gassen und Höfe und entdecken Sie die Arbeitsstätten der alten Handwerker in der Hansestadt.
LOCATION:Buddenbrooks am Markt, Markt 15, 23552 Lübeck, Deutschland
DTSTART:20260606T133000
DTEND:20260606T150000
END:VEVENT
END:VCALENDAR