BEGIN:VCALENDAR
PRODID:-//MIADI//DE
BEGIN:VEVENT
UID:Running City Tours - Joggen &amp; Sightseeing verbinden-1129464
SUMMARY:Running City Tours - Joggen & Sightseeing verbinden
DESCRIPTION:Die sportliche Stadtführung - Lauftouren mit lokalem Guide
LOCATION:Johannes Brahms Statue, , 23552 Lübeck, Deutschland
DTSTART:20261230T150000
DTEND:20261230T163000
END:VEVENT
END:VCALENDAR