BEGIN:VCALENDAR
PRODID:-//MIADI//DE
BEGIN:VEVENT
UID:Running City Tours - Joggen &amp; Sightseeing verbinden-1129214
SUMMARY:Running City Tours - Joggen & Sightseeing verbinden
DESCRIPTION:Die sportliche Stadtführung - Lauftouren mit lokalem Guide
LOCATION:Johannes Brahms Statue, , 23552 Lübeck, Deutschland
DTSTART:20260506T080000
DTEND:20260506T093000
END:VEVENT
END:VCALENDAR