BEGIN:VCALENDAR
PRODID:-//MIADI//DE
BEGIN:VEVENT
UID:Running City Tours - Joggen &amp; Sightseeing verbinden-1128814
SUMMARY:Running City Tours - Joggen & Sightseeing verbinden
DESCRIPTION:Die sportliche Stadtführung - Lauftouren mit lokalem Guide
LOCATION:Johannes Brahms Statue, , 23552 Lübeck, Deutschland
DTSTART:20260906T130000
DTEND:20260906T143000
END:VEVENT
END:VCALENDAR