BEGIN:VCALENDAR
PRODID:-//MIADI//DE
BEGIN:VEVENT
UID:Silent Book Club®-1348408
SUMMARY:Silent Book Club® - September
DESCRIPTION:Der Silent Book Club® bietet eine neue Art des Lesens\, bei der jeder in Ruhe und Konzentration seiner Leidenschaft nachgehen kann.
LOCATION:Bibliothek der Hansestadt Lübeck, Hundestraße 5-17, 23552 Lübeck, Deutschland
DTSTART:20260923T163000
DTEND:20260923T183000
END:VEVENT
END:VCALENDAR