BEGIN:VCALENDAR
PRODID:-//MIADI//DE
BEGIN:VEVENT
UID:Strandrallye im Landschaftsschutzgebiet Küstenlandschaft Priwall-1357989
SUMMARY:Strandrallye im Landschaftsschutzgebiet Küstenlandschaft Priwall
DESCRIPTION:Entdeckungstour am Strand. • naturwerkstatt-priwall.de
LOCATION:Treffpunkt: Naturwerkstatt Priwall, Fliegerweg 5-7, 23570 Travemünde, Deutschland
DTSTART:20260425T150000
DTEND:20260425T163000
END:VEVENT
END:VCALENDAR