BEGIN:VCALENDAR
PRODID:-//MIADI//DE
BEGIN:VEVENT
UID:Stadtführung: Der Klassiker auf Englisch-1345674
SUMMARY:Stadtführung: Der Klassiker auf Englisch
DESCRIPTION:Bei dieser Tour werden Sie garantiert die wichtigsten Sehenswürdigkeiten der Lübecker Altstadt zu sehen bekommen! • luebeck-tourismus.de
LOCATION:Treffpunkt: Tourist-Information am Holstentor, Holstentorplatz 1, 23552 Lübeck, Deutschland
DTSTART:20260606T133000
DTEND:20260606T153000
END:VEVENT
END:VCALENDAR