BEGIN:VCALENDAR
PRODID:-//MIADI//DE
BEGIN:VEVENT
UID:Fit &amp; Fun | Lifestylemesse-1116155
SUMMARY:Fit & Fun | Lifestylemesse
DESCRIPTION:Das Lifestyle-Event für Fitness\, Sport und Gesundheit. • 19. bis 21. Juni 2026 • messeundevent-gmbh.de
LOCATION:Tornadowiese Travemünde, Travepromenade, 23570 Travemünde, Deutschland
DTSTART:20260620T100000
DTEND:20260620T190000
END:VEVENT
END:VCALENDAR