BEGIN:VCALENDAR
PRODID:-//MIADI//DE
BEGIN:VEVENT
UID:Gaming After School in der Stadtteilbibliothek Moisling-1353856
SUMMARY:Gaming After School in der Stadtteilbibliothek Moisling - Oktober
DESCRIPTION:An jedem letzten Freitag im Monat von 15 Uhr bis 17 Uhr. Für Kinder und Jugendliche von 6 bis 16 Jahren.
LOCATION:Bibliothek der Hansestadt Lübeck, Moislinger Berg 2, 23560 Lübeck, Deutschland
DTSTART:20261030T150000
DTEND:20261030T170000
END:VEVENT
END:VCALENDAR