BEGIN:VCALENDAR
PRODID:-//MIADI//DE
BEGIN:VEVENT
UID:Gaming After School in der Stadtteilbibliothek Moisling-1353850
SUMMARY:Gaming After School in der Stadtteilbibliothek Moisling - April
DESCRIPTION:An jedem letzten Freitag im Monat von 15 Uhr bis 17 Uhr. Für Kinder und Jugendliche von 6 bis 16 Jahren.
LOCATION:Bibliothek der Hansestadt Lübeck, Moislinger Berg 2, 23560 Lübeck, Deutschland
DTSTART:20260424T150000
DTEND:20260424T170000
END:VEVENT
END:VCALENDAR