BEGIN:VCALENDAR
PRODID:-//MIADI//DE
BEGIN:VEVENT
UID:SOMMERGARTEN LÜBECK-1086819
SUMMARY:SOMMERGARTEN LÜBECK
DESCRIPTION:Ob kurzer Zwischenstopp beim Bummel durch Lübeck\, Picknick mit Freund:innen oder entspannter Nachmittag mit der Familie - hier darf die Zeit ein wenig langsamer werden. • luebeck-tourismus.de/kultur/sommergarten
LOCATION:auf dem Koberg, Koberg, 23552 Lübeck, Deutschland
DTSTART:20260825T060000
DTEND:20260825T230000
END:VEVENT
END:VCALENDAR