BEGIN:VCALENDAR
PRODID:-//MIADI//DE
BEGIN:VEVENT
UID:sail &amp; bike | nach Boltenhagen und zurück-1352054
SUMMARY:sail & bike | nach Boltenhagen und zurück
DESCRIPTION:Mit dem E-Bike nach Boltenhagen führt diese Tour. Zurück geht es per Motor- oder Segelyacht. • wslb.de
LOCATION:ab/an: Passathafen Travemünde, Am Priwallhafen, 23570 Travemünde, Deutschland
DTSTART:20260802T100000
DTEND:20260802T170000
END:VEVENT
END:VCALENDAR