BEGIN:VCALENDAR
PRODID:-//MIADI//DE
BEGIN:VEVENT
UID:Kreativ-Treff in der Stadtteilbibliothek Moisling-1363122
SUMMARY:Kreativ-Treff in der Stadtteilbibliothek Moisling - Mai
DESCRIPTION:Alle zwei Wochen mittwochs um 15 Uhr laden wir ein zum Handarbeitstreff in geselliger Runde!
LOCATION:Bibliothek der Hansestadt Lübeck, Moislinger Berg 2, 23560 Lübeck, Deutschland
DTSTART:20260527T150000
DTEND:20260527T170000
END:VEVENT
END:VCALENDAR