BEGIN:VCALENDAR
PRODID:-//MIADI//DE
BEGIN:VEVENT
UID:Führung durch die historischen Säle der Stadtbibliothek-1346336
SUMMARY:Führung durch die historischen Säle der Stadtbibliothek - Dezember
DESCRIPTION:Führung durch die historischen Gebäudeteile der Bibliothek - jeweils am ersten Mittwoch im Monat: Das Gebäudeensemble der Stadtbibliothek umfasst sowohl Bauten aus dem Mittelalter\, dem 19. wie auch aus dem frühen und späteren 20. Jahrhundert.
LOCATION:Bibliothek der Hansestadt Lübeck, Hundestraße 5-17, 23552 Lübeck, Deutschland
DTSTART:20261202T173000
DTEND:20261202T183000
END:VEVENT
END:VCALENDAR