BEGIN:VCALENDAR
PRODID:-//MIADI//DE
BEGIN:VEVENT
UID:Führung durch die historischen Säle der Stadtbibliothek-1346333
SUMMARY:Führung durch die historischen Säle der Stadtbibliothek - Oktober
DESCRIPTION:Führung durch die historischen Gebäudeteile der Bibliothek - jeweils am ersten Mittwoch im Monat: Das Gebäudeensemble der Stadtbibliothek umfasst sowohl Bauten aus dem Mittelalter\, dem 19. wie auch aus dem frühen und späteren 20. Jahrhundert.
LOCATION:Bibliothek der Hansestadt Lübeck, Hundestraße 5-17, 23552 Lübeck, Deutschland
DTSTART:20261007T173000
DTEND:20261007T183000
END:VEVENT
END:VCALENDAR