BEGIN:VCALENDAR
PRODID:-//MIADI//DE
BEGIN:VEVENT
UID:Stimmungsvolle Nachtwächterführung durch dunkle Gassen-1355928
SUMMARY:Stimmungsvolle Nachtwächterführung durch dunkle Gassen - Unterhaltsam\, informativ & authentisch
DESCRIPTION:Erleben Sie Lübeck mit dem Nachtwächter in der Altstadt.
LOCATION:am Holstentor auf Seite der Grünanlage, Holstentorplatz, 23552 Lübeck, Deutschland
DTSTART:20261024T210000
DTEND:20261024T223000
END:VEVENT
END:VCALENDAR