BEGIN:VCALENDAR
PRODID:-//MIADI//DE
BEGIN:VEVENT
UID:Klassische Stadtführung: Die schönsten Sehenswürdigkeiten-1356001
SUMMARY:Klassische Stadtführung: Die schönsten Sehenswürdigkeiten - Unterhaltsam\, informativ & authentisch
DESCRIPTION:Erkunden Sie mit uns bei der Stadtführung Lübeck die beeindruckende Weltkulturerbe-Altstadt mit Ihren Backsteinbauten und hören Sie Wissenswertes zur glanzvollen Geschichte der Hansestadt.
LOCATION:am Holstentor auf Seite der Grünanlage, Holstentorplatz, 23552 Lübeck, Deutschland
DTSTART:20260620T140000
DTEND:20260620T153000
END:VEVENT
END:VCALENDAR