BEGIN:VCALENDAR
PRODID:-//MIADI//DE
BEGIN:VEVENT
UID:Höfe und Gänge Tour: Versteckte Winkel der Altstadt-1355805
SUMMARY:Höfe und Gänge Tour: Versteckte Winkel der Altstadt - Unterhaltsam\, informativ & authentisch
DESCRIPTION:Erleben Sie Lübeck von seiner idyllischen Seite und besuchen Sie mit uns die schmalen Gänge und malerischen Höfe\, die ruhige Oasen mitten in der Altstadt bilden.
LOCATION:vor dem Burgtor auf der Stadtaußenseite (Burgtorbrücke 2\, 23552 Lübeck), Burgtorbrücke, 23552 Lübeck, Deutschland
DTSTART:20261110T140000
DTEND:20261110T153000
END:VEVENT
END:VCALENDAR