BEGIN:VCALENDAR
PRODID:-//MIADI//DE
BEGIN:VEVENT
UID:Gemischter Chor der Travemünder Liedertafel von 1843 e.V. | Chorprobe-1346889
SUMMARY:Gemischter Chor der Travemünder Liedertafel von 1843 e.V. | Chorprobe
DESCRIPTION:Gäste sind willkommen! • gemischterchor.de
LOCATION:Gesellschaftshaus Travemünde, Torstraße 1, 23570 Travemünde, Deutschland
DTSTART:20261019T190000
DTEND:20261019T210000
END:VEVENT
END:VCALENDAR