BEGIN:VCALENDAR
PRODID:-//MIADI//DE
BEGIN:VEVENT
UID:SEEBADKULTUR. BEWEGUNG 2026 in Travemünde-1362637
SUMMARY:SEEBADKULTUR. BEWEGUNG 2026 in Travemünde
DESCRIPTION:Sonnengruß\, Flow & Harmonie. Das Sommer Sportangebot in Travemünde. • 15. Juni bis 31. August 2026 • travemuende-tourismus.de/veranstaltungen/seebadkulturbewegung
LOCATION:Strand und Strandpromenade, Strandpromenade, 23570 Travemünde, Deutschland
DTSTART:20260805T050000
DTEND:20260805T060000
END:VEVENT
END:VCALENDAR