BEGIN:VCALENDAR
PRODID:-//MIADI//DE
BEGIN:VEVENT
UID:SEEBADKULTUR.LESUNG 2026 in Travemünde-1362581
SUMMARY:SEEBADKULTUR.LESUNG 2026 in Travemünde
DESCRIPTION:Die Seele baumeln lassen! Mitten im Park laden dich unsere Autor:innen ein zu einem inspirierenden Ausflug in die Welt der Literatur. • travemuende-tourismus.de/veranstaltungen/seebadkulturlesung 
LOCATION:Godewindpark, Godewind, 23570 Travemünde, Deutschland
DTSTART:20260604T170000
DTEND:20260604T180000
END:VEVENT
END:VCALENDAR