BEGIN:VCALENDAR
PRODID:-//MIADI//DE
BEGIN:VEVENT
UID:Schach mit dem TSV Travemünde-1347153
SUMMARY:Schach mit dem TSV Travemünde
DESCRIPTION:Gespielt wird immer dienstags - Gäste sind herzlich willkommen! • tsvtravemuende.de
LOCATION:Das kleine Winkler | Weinlokal, Vorderreihe 22, 23570 Travemünde, Deutschland
DTSTART:20260901T190000
DTEND:20260901T220000
END:VEVENT
END:VCALENDAR