BEGIN:VCALENDAR
PRODID:-//MIADI//DE
BEGIN:VEVENT
UID:Maibaum-Aufstellen in Travemünde-1359798
SUMMARY:Maibaum-Aufstellen in Travemünde
DESCRIPTION:Heute wird in Travemünde der Maibaum aufgestellt! Los geht's ab 11.00 Uhr. \n
LOCATION:Marktplatz St. Lorenz , Kirchenstraße, 23570 Travemünde , Deutschland
DTSTART:20260501T110000
DTEND:20260501T130000
END:VEVENT
END:VCALENDAR