BEGIN:VCALENDAR
PRODID:-//MIADI//DE
BEGIN:VEVENT
UID:Kletterwald Travemünde -1330033
SUMMARY:Kletterwald Travemünde 
DESCRIPTION:Abenteuerlust? Seilbahnen\, liebevoll aus Holz gefertigte Hindernisse und ein Base Jump aus 11 Metern Höhe - ein Kletterereignis für Groß und Klein! • kletterwald-travemuende.de
LOCATION:Kletterwald Travemünde, Parkallee 3\, Kalvarienberg, 23570 Travemünde, Deutschland
DTSTART:20261010T100000
DTEND:20261010T180000
END:VEVENT
END:VCALENDAR