BEGIN:VCALENDAR
PRODID:-//MIADI//DE
BEGIN:VEVENT
UID:SEEBADKULTUR.FESTIVAL 2026 in Travemünde-1036498
SUMMARY:SEEBADKULTUR.FESTIVAL 2026 in Travemünde
DESCRIPTION:Rein in die Flip Flops! Am langen Himmelfahrtswochenende lädt das Seebad vom 13. bis zum 17. Mai 2026 zu kleinen und feinen Veranstaltungsmomenten ein. • travemuende-tourismus.de/veranstaltungen/seebadkulturfestival
LOCATION:Strandterrassen an der Nordermole, Strandpromenade, 23570 Travemünde, Deutschland
DTSTART:20260516T110000
DTEND:20260516T210000
END:VEVENT
END:VCALENDAR