BEGIN:VCALENDAR
PRODID:-//MIADI//DE
BEGIN:VEVENT
UID:De TraveMünder | Chorprobe-1346810
SUMMARY:De TraveMünder | Chorprobe
DESCRIPTION:Der plattdeutsche Chor "De TraveMünder" freut sich auf Neuzugänge! 
LOCATION:Gesellschaftshaus Travemünde, Torstraße 1, 23570 Travemünde, Deutschland
DTSTART:20261012T163000
DTEND:20261012T183000
END:VEVENT
END:VCALENDAR