BEGIN:VCALENDAR
PRODID:-//MIADI//DE
BEGIN:VEVENT
UID:De TraveMünder | Chorprobe-1346795
SUMMARY:De TraveMünder | Chorprobe
DESCRIPTION:Der plattdeutsche Chor "De TraveMünder" freut sich auf Neuzugänge! 
LOCATION:Gesellschaftshaus Travemünde, Torstraße 1, 23570 Travemünde, Deutschland
DTSTART:20260629T163000
DTEND:20260629T183000
END:VEVENT
END:VCALENDAR