BEGIN:VCALENDAR
PRODID:-//MIADI//DE
BEGIN:VEVENT
UID:137. Travemünder Woche -994735
SUMMARY:137. Travemünder Woche 
DESCRIPTION:Die schönste Regatta der Welt findet in Travemünde statt! Auf unseren weitläufigen Promenaden findet jede:r ein Lieblingsplätzchen\, um das Festival an Land zu genießen und die spannenden Wettkämpfe auf dem Wasser zu verfolgen. • travemuender-woche.com
LOCATION:Ostsee und Trave\, Strand-\, Trave- und Priwallpromenade\, Brügmanngarten, , 23570 Travemünde, Deutschland
DTSTART:20260723T110000
DTEND:20260723T223000
END:VEVENT
END:VCALENDAR