BEGIN:VCALENDAR
PRODID:-//MIADI//DE
BEGIN:VEVENT
UID:sail &amp; walk | nach Niendorf und zurück-1352558
SUMMARY:sail & walk | nach Niendorf und zurück
DESCRIPTION:Toller Ausblick! Über das Brodtener Steilufer von Travemünde zum Niendorfer Fischereihafen wandern oder mit dem gleichen Ziel die Küstenlinie entlang segeln. Für den Rückweg wird getauscht! • wslb.de
LOCATION:ab/an: Kleiner Fährplatz, Travepromenade, 23570 Travemünde, Deutschland
DTSTART:20260617T110000
DTEND:20260617T170000
END:VEVENT
END:VCALENDAR