BEGIN:VCALENDAR
PRODID:-//MIADI//DE
BEGIN:VEVENT
UID:Segeltörn entlang der Lübecker Bucht | 11.00 und 15.00 Uhr-1360571
SUMMARY:Segeltörn entlang der Lübecker Bucht | 11.00 und 15.00 Uhr
DESCRIPTION:Faszination Segeln - die Weite der Ostsee und herrliche Küstenlandschaften erleben. Segeltörns täglich um 11.00 und 15.00 Uhr ab Travemünde. • travemuende-tourismus.de/buchen/erlebnisse/erlebnisse
LOCATION:Treffpunkt: BÖBS-Werft Travemünde | Hafenmeister, Travemünder Landstraße 304, 23570 Travemünde, Deutschland
DTSTART:20261020T110000
DTEND:20261020T180000
END:VEVENT
END:VCALENDAR